BEGIN:VCALENDAR
VERSION:2.0
PRODID:-//Quad NB Region 2 - ECPv6.15.20//NONSGML v1.0//EN
CALSCALE:GREGORIAN
METHOD:PUBLISH
X-WR-CALNAME:Quad NB Region 2
X-ORIGINAL-URL:https://quadnbr2.ca
X-WR-CALDESC:Events for Quad NB Region 2
REFRESH-INTERVAL;VALUE=DURATION:PT1H
X-Robots-Tag:noindex
X-PUBLISHED-TTL:PT1H
BEGIN:VTIMEZONE
TZID:America/Halifax
BEGIN:DAYLIGHT
TZOFFSETFROM:-0400
TZOFFSETTO:-0300
TZNAME:ADT
DTSTART:20240310T060000
END:DAYLIGHT
BEGIN:STANDARD
TZOFFSETFROM:-0300
TZOFFSETTO:-0400
TZNAME:AST
DTSTART:20241103T050000
END:STANDARD
BEGIN:DAYLIGHT
TZOFFSETFROM:-0400
TZOFFSETTO:-0300
TZNAME:ADT
DTSTART:20250309T060000
END:DAYLIGHT
BEGIN:STANDARD
TZOFFSETFROM:-0300
TZOFFSETTO:-0400
TZNAME:AST
DTSTART:20251102T050000
END:STANDARD
BEGIN:DAYLIGHT
TZOFFSETFROM:-0400
TZOFFSETTO:-0300
TZNAME:ADT
DTSTART:20260308T060000
END:DAYLIGHT
BEGIN:STANDARD
TZOFFSETFROM:-0300
TZOFFSETTO:-0400
TZNAME:AST
DTSTART:20261101T050000
END:STANDARD
END:VTIMEZONE
BEGIN:VEVENT
DTSTART;VALUE=DATE:20250720
DTEND;VALUE=DATE:20250721
DTSTAMP:20260424T210057
CREATED:20250713T184058Z
LAST-MODIFIED:20250713T184058Z
UID:9944-1752969600-1753055999@quadnbr2.ca
SUMMARY:Club 3:  Garage Sale Fund Raiser
DESCRIPTION:VTT / ATV Club Restigouche will be hosting a Garage Sale at the Centre Plein Air in St-Arthur on Sunday\, July 20\, 2025\, between 9 am and 2 pm. \nLook forward to seeing you. \n 
URL:https://quadnbr2.ca/event/club-3-garage-sale-fund-raiser/
LOCATION:Centre Plein Air\, 1512\, Route 275\, St. Arthur\, Atholville\, New Brunswick\, E3N 5R7\, Canada
CATEGORIES:Call to Action
ATTACH;FMTTYPE=image/jpeg:https://quadnbr2.ca/wp-content/uploads/2025/07/Club-3-Garage-Sale-20JUL2025.jpg
ORGANIZER;CN="VTT / ATV Club Restigouche":MAILTO:contact@quadnbr2.ca
END:VEVENT
END:VCALENDAR