BEGIN:VCALENDAR
VERSION:2.0
PRODID:-//Quad NB Region 2 - ECPv6.15.20//NONSGML v1.0//EN
CALSCALE:GREGORIAN
METHOD:PUBLISH
X-WR-CALNAME:Quad NB Region 2
X-ORIGINAL-URL:https://quadnbr2.ca
X-WR-CALDESC:Events for Quad NB Region 2
REFRESH-INTERVAL;VALUE=DURATION:PT1H
X-Robots-Tag:noindex
X-PUBLISHED-TTL:PT1H
BEGIN:VTIMEZONE
TZID:America/Halifax
BEGIN:DAYLIGHT
TZOFFSETFROM:-0400
TZOFFSETTO:-0300
TZNAME:ADT
DTSTART:20240310T060000
END:DAYLIGHT
BEGIN:STANDARD
TZOFFSETFROM:-0300
TZOFFSETTO:-0400
TZNAME:AST
DTSTART:20241103T050000
END:STANDARD
BEGIN:DAYLIGHT
TZOFFSETFROM:-0400
TZOFFSETTO:-0300
TZNAME:ADT
DTSTART:20250309T060000
END:DAYLIGHT
BEGIN:STANDARD
TZOFFSETFROM:-0300
TZOFFSETTO:-0400
TZNAME:AST
DTSTART:20251102T050000
END:STANDARD
BEGIN:DAYLIGHT
TZOFFSETFROM:-0400
TZOFFSETTO:-0300
TZNAME:ADT
DTSTART:20260308T060000
END:DAYLIGHT
BEGIN:STANDARD
TZOFFSETFROM:-0300
TZOFFSETTO:-0400
TZNAME:AST
DTSTART:20261101T050000
END:STANDARD
END:VTIMEZONE
BEGIN:VEVENT
DTSTART;TZID=America/Halifax:20250614T090000
DTEND;TZID=America/Halifax:20250614T170000
DTSTAMP:20260425T003553
CREATED:20250510T233633Z
LAST-MODIFIED:20250510T235621Z
UID:9612-1749891600-1749920400@quadnbr2.ca
SUMMARY:Club 4: Father's Day Fun Run
DESCRIPTION:Club VTT 2000 (Club 4) will be hosting a Father’s Day Fun Run in the BlackPoint / Jacket River area on Saturday\, June 14\, 2025. \nRegistration will begin at 9am at Smearer Fuels (Black Point) and the run will start at 10 am. Prizes to be drawn before departure. \n$10 / person along with 50/50 draw. \nThere will also be a draw for a $2000 generator (provided by Brunswick Power Sports) with tickets for $5. \n 
URL:https://quadnbr2.ca/event/club-4-fathers-day-fun-run/
LOCATION:Dundee Community Center\, 304 NB-290\, Dundee\, New Brunswick\, E8E1W5\, Canada
CATEGORIES:Rides
ATTACH;FMTTYPE=image/jpeg:https://quadnbr2.ca/wp-content/uploads/2025/05/Club-4-Fathers-Day-Fun-Run-14JUN2025.jpg
END:VEVENT
BEGIN:VEVENT
DTSTART;TZID=America/Halifax:20250614T090000
DTEND;TZID=America/Halifax:20250614T170000
DTSTAMP:20260425T003553
CREATED:20250429T135651Z
LAST-MODIFIED:20250603T105946Z
UID:9377-1749891600-1749920400@quadnbr2.ca
SUMMARY:Club 3 & Club 5: Poker Rally to Island Lake Club
DESCRIPTION:UPDATED:   Club VTT / ATV Restigouche and Club VTT / ATV Chaleur will be hosting a joint POKER RALLY on Saturday\, June 14\, 2025 from 9 am to 9 pm.  \nRegistration will begin at 9am at the Centre Plein Air in St-Arthur (Club 3) and at Brunswick Power Sport in Beresford (Club 5).  If you cannot make the registration points\, you can travel to Island Lake and register there upon your arrival. \nGroups will leave at 11am and head for Island Lake Club.  We request everyone arrive at Island Lake Club by 5 pm.  The Centre Plein Air restaurant will be open for breakfast prior to the leaving for the run. \nPrizes are 1st place: $500\, 2nd place: $250\, 3rd place: $150 with $100 offered to the worst poker hand.  \nThere will also be a 50/50 draw\, games and door prizes. \n 
URL:https://quadnbr2.ca/event/club-4-poker-rally/
LOCATION:New Brunswick
CATEGORIES:Rides
ATTACH;FMTTYPE=image/jpeg:https://quadnbr2.ca/wp-content/uploads/2025/04/Club-4-Poker-Rally-14JUN2025.jpg
ORGANIZER;CN="VTT / ATV Club Restigouche":MAILTO:contact@quadnbr2.ca
END:VEVENT
BEGIN:VEVENT
DTSTART;VALUE=DATE:20250607
DTEND;VALUE=DATE:20250608
DTSTAMP:20260425T003553
CREATED:20250604T154540Z
LAST-MODIFIED:20250605T000300Z
UID:9852-1749254400-1749340799@quadnbr2.ca
SUMMARY:Club 3:  CAN-AM Presentation
DESCRIPTION:Members of VTT / ATV Club Restigouche will be attending a presentation by Can-Am on June 7\, 2025.  \nCome join our ride from the Lili Toutou Kennels in St-Arthur at 10 am Saturday morning (June 7th) to the free presentation from Can-Am JT All Season Motorsports (no need to have a Can-Am to participate). The presentation will start at 2 am with prizes and gifts to be drawn during the day. \nSee the event poster for event details. \nMembers throughout Region 2 are encouraged and invited to attend this event. \nLook forward to seeing you there. \n 
URL:https://quadnbr2.ca/event/club-3-can-am-presentation/
LOCATION:Relais St-Maure Relay Inc.\, 1035 Chem. Saint-Maure\, Balmoral\, New Brunswick\, E0E1J2\, Canada
CATEGORIES:Rides
ATTACH;FMTTYPE=image/jpeg:https://quadnbr2.ca/wp-content/uploads/2025/06/Club-3-Can-Am-Presentation-07JUN2025.jpg
ORGANIZER;CN="VTT / ATV Club Restigouche":MAILTO:contact@quadnbr2.ca
END:VEVENT
BEGIN:VEVENT
DTSTART;TZID=America/Halifax:20250531T090000
DTEND;TZID=America/Halifax:20250531T210000
DTSTAMP:20260425T003553
CREATED:20250510T231844Z
LAST-MODIFIED:20250514T233103Z
UID:9603-1748682000-1748725200@quadnbr2.ca
SUMMARY:Club 4\, Club 5 and Island Lake Club: Poker Run
DESCRIPTION:Club VTT 2000 (Club 4) and Club VTT Chaleur (Club 5)\, in collaboration with the Island Lake Club will be hosting a Poker Rally on Saturday\, May 31\, 2025. Registration begins at 9 am and run starts at 10 am. Cost is $10. \nThe run will start at Conrad McIntyre Garage (495 Ave des Pionniers\, Balmoral NB) or at Brunswick Power Sports (654 Principal St.\, Beresford\, NB). \nWe will be arriving at the Island Lake Club between 3 pm and 5 pm. Poker hand selection upon arrival with prizes drawn at 6 pm. \nChinese Food available for $15 + tax / person. \n 
URL:https://quadnbr2.ca/event/club-4-club-5-and-island-lake-club-poker-run/
LOCATION:Dundee Community Center\, 304 NB-290\, Dundee\, New Brunswick\, E8E1W5\, Canada
CATEGORIES:Rides
ATTACH;FMTTYPE=image/png:https://quadnbr2.ca/wp-content/uploads/2025/04/Island_Lake_Club-2-e1747080651201.png
END:VEVENT
BEGIN:VEVENT
DTSTART;VALUE=DATE:20250426
DTEND;VALUE=DATE:20250427
DTSTAMP:20260425T003553
CREATED:20250325T165037Z
LAST-MODIFIED:20250417T132231Z
UID:7994-1745625600-1745711999@quadnbr2.ca
SUMMARY:Club 2: Ride des Sucrerie
DESCRIPTION:Club VTT Kedgwick (Club 2) will be hosting a Sugar Ride on Saturday\, April 26\, 2025 leaving from the Club at 572 Petit-Ouest Road in Kedgwick. Registration is at 11 am and ride will return from the ride at 8 pm.  This event has over $3500 in prizes to give away. \n 
URL:https://quadnbr2.ca/event/club-2-ride-des-sucrerie/
LOCATION:Knights of Columbus Hall\, 488 Vanier Street\, Campbellton\, NB\, E3N 1V7\, Canada
CATEGORIES:Rides
ATTACH;FMTTYPE=image/jpeg:https://quadnbr2.ca/wp-content/uploads/2025/03/Club-2-Ride-Sucrerie-26APR2025.jpg
ORGANIZER;CN="Club des Tout terrain de Kedgwick Inc.":MAILTO:infoclub2@quadnbr2.ca
END:VEVENT
BEGIN:VEVENT
DTSTART;TZID=America/Halifax:20250322T130000
DTEND;TZID=America/Halifax:20250322T230000
DTSTAMP:20260425T003553
CREATED:20250325T165914Z
LAST-MODIFIED:20250417T132341Z
UID:7997-1742648400-1742684400@quadnbr2.ca
SUMMARY:Club 2: Poker Run
DESCRIPTION:Club VTT Kedgwick (Club 2) will be hosting a Poker Run on Saturday\, March 22\, 2025 leaving from the Club at 572 Petit-Ouest Road in Kedgwick. Registration between 1 pm and 6 pm with the ride to follow.  Returning at 9 pm. \nCost is $10 / member or $15 / non-member. \nMusic will be provided by Yohan Carrier at 9 pm.
URL:https://quadnbr2.ca/event/club-2-poker-run-2/
LOCATION:Knights of Columbus Hall\, 488 Vanier Street\, Campbellton\, NB\, E3N 1V7\, Canada
CATEGORIES:Rides
ATTACH;FMTTYPE=image/jpeg:https://quadnbr2.ca/wp-content/uploads/2025/03/Club-2-Poker-Run-22Mar2025.jpg
ORGANIZER;CN="Club des Tout terrain de Kedgwick Inc.":MAILTO:infoclub2@quadnbr2.ca
END:VEVENT
BEGIN:VEVENT
DTSTART;TZID=America/Halifax:20250301T140000
DTEND;TZID=America/Halifax:20250301T230000
DTSTAMP:20260425T003553
CREATED:20250227T001001Z
LAST-MODIFIED:20250417T132415Z
UID:7698-1740837600-1740870000@quadnbr2.ca
SUMMARY:Club 2: Poker Run
DESCRIPTION:ClClub VTT Kedgwick (Club 2) will be hosting a Poker Run on Saturday\, March 1\, 2025 leaving from the Club at 572 Petit-Ouest Road in Kedgwick. Registration between 2 pm and 4 pm with the ride to follow. \nMusic will be provided by Sean Cyr at 8 pm.
URL:https://quadnbr2.ca/event/club-2-poker-run/
LOCATION:Knights of Columbus Hall\, 488 Vanier Street\, Campbellton\, NB\, E3N 1V7\, Canada
CATEGORIES:Rides
ATTACH;FMTTYPE=image/jpeg:https://quadnbr2.ca/wp-content/uploads/2025/02/Club-2-Poker-Run-01Mar2025.jpg
ORGANIZER;CN="Club des Tout terrain de Kedgwick Inc.":MAILTO:infoclub2@quadnbr2.ca
END:VEVENT
BEGIN:VEVENT
DTSTART;TZID=America/Halifax:20250301T120000
DTEND;TZID=America/Halifax:20250301T230000
DTSTAMP:20260425T003553
CREATED:20250226T171202Z
LAST-MODIFIED:20250417T132507Z
UID:7695-1740830400-1740870000@quadnbr2.ca
SUMMARY:Club 1: Poker Run
DESCRIPTION:Club Sentier d’Amitie Saint Quentin will be hosting a POKER RUN ride on Saturday\, March 1 with registration from 12 pm to 2 pm.  The ride will leave from the clubhouse and will be followed by a pizza dinner at the clubhouse starting at 5:30 pm.  At 8pm we will be entertained ty Christopher Therrien.
URL:https://quadnbr2.ca/event/club-1-poker-run-3/
LOCATION:Sentier d’Amitie Saint-Quentin\, 252 Rousseau Road. PO Box 1411\, Saint Quentin\, new\, E8A 1A2\, Canada
CATEGORIES:Rides
ATTACH;FMTTYPE=image/jpeg:https://quadnbr2.ca/wp-content/uploads/2025/02/Club-1-Poker-Run-01Mar2025.jpg
ORGANIZER;CN="Club Sentier dAmitie Saint-Quentin":MAILTO:infoClub1@quadnbr2.ca
END:VEVENT
BEGIN:VEVENT
DTSTART;TZID=America/Halifax:20250301T100000
DTEND;TZID=America/Halifax:20250301T130000
DTSTAMP:20260425T003553
CREATED:20250215T084423Z
LAST-MODIFIED:20250417T132520Z
UID:7399-1740823200-1740834000@quadnbr2.ca
SUMMARY:Club 5: Poker Rally Fundraiser for the Homeless
DESCRIPTION:Club VTT Chaleur ATV Club will be hosting a ride on Saturday\, March 1 at 10 am leaving from the garage of the ATV club and riding to the Snack Bar La Marita. There will be a 50/50 draw plus prizes for the best Poker Hands.  \n1st prize – $5002nd prize – $3003rd prize – $2004th prize – $100 \nCost is $10 per poker hand.
URL:https://quadnbr2.ca/event/club-5-poker-rally-fundraiser-for-the-homeless/
LOCATION:Club VTT Chaleur ATV Club\, 59 Pierre Street\, Belle-Baie\, New Brunswick\, E8J\, Canada
CATEGORIES:Rides
ATTACH;FMTTYPE=image/jpeg:https://quadnbr2.ca/wp-content/uploads/2025/02/club5-Poker-Rally-01MAR2025.jpg
END:VEVENT
BEGIN:VEVENT
DTSTART;TZID=America/Halifax:20250222T130000
DTEND;TZID=America/Halifax:20250222T180000
DTSTAMP:20260425T003553
CREATED:20250215T083401Z
LAST-MODIFIED:20250215T085953Z
UID:7397-1740229200-1740247200@quadnbr2.ca
SUMMARY:Club 2: Lantern Rally
DESCRIPTION:Club VTT Kedgwick (Club 2) will be hosting a Lantern Rally on Saturday\, February 22\, 2025 from 8 pm to 11 pm leaving from the Club at 572 Petit-Ouest Road in Kedgwick. Registration between 4 pm and 8 pm. \nMusic will be provided by Alex Soucy at 10 pm.
URL:https://quadnbr2.ca/event/club-2-poker-run-22-feb-2025/
LOCATION:Knights of Columbus Hall\, 488 Vanier Street\, Campbellton\, NB\, E3N 1V7\, Canada
CATEGORIES:Rides
ATTACH;FMTTYPE=image/jpeg:https://quadnbr2.ca/wp-content/uploads/2025/02/Club-2-Latern-Rally-22FEB2025.jpg
ORGANIZER;CN="Club des Tout terrain de Kedgwick Inc.":MAILTO:infoclub2@quadnbr2.ca
END:VEVENT
BEGIN:VEVENT
DTSTART;TZID=America/Halifax:20250215T180000
DTEND;TZID=America/Halifax:20250215T210000
DTSTAMP:20260425T003553
CREATED:20250212T002208Z
LAST-MODIFIED:20250417T132540Z
UID:7318-1739642400-1739653200@quadnbr2.ca
SUMMARY:Club 5: Lantern Ride
DESCRIPTION:Club VTT Chaleur ATV Club will be hosting a ride on Saturday\, February 15 at 6 pm leaving from the garage of the ATV club.  There will be 2 routes to choose from that will lead to La Marita where a 50/50 draw will be held\, and some prizes will be awarded around 9 pm.  This ride is FREE.
URL:https://quadnbr2.ca/event/club-5-lantern-ride-copy/
LOCATION:Club VTT Chaleur ATV Club\, 59 Pierre Street\, Belle-Baie\, New Brunswick\, E8J\, Canada
CATEGORIES:Rides
ATTACH;FMTTYPE=image/jpeg:https://quadnbr2.ca/wp-content/uploads/2025/01/Club-5.jpg
END:VEVENT
BEGIN:VEVENT
DTSTART;TZID=America/Halifax:20250215T130000
DTEND;TZID=America/Halifax:20250215T150000
DTSTAMP:20260425T003553
CREATED:20250212T002316Z
LAST-MODIFIED:20250417T132552Z
UID:7321-1739624400-1739631600@quadnbr2.ca
SUMMARY:Club 4: Family Day at Ti-Paul Shelter
DESCRIPTION:Club VTT 2000 (Club 4) will be hosting a Family Day on Saturday\, February 15\, 2025 from 1 pm to 3 pm. Activities will be centred at the Ti-Paul Shelter and the cost will be $10 per Family.  Bring Loonies and Toonies for games and prizes.  Hotdogs\, chips and pop will be provided for a nominal cost. \nThe Ti-Paul Shelter is located on Trail #408.  Lat: 47.9745 Lon: -66.47239
URL:https://quadnbr2.ca/event/club-4-family-day-at-ti-paul-shelter-copy/
LOCATION:New Brunswick
CATEGORIES:Rides
ATTACH;FMTTYPE=image/jpeg:https://quadnbr2.ca/wp-content/uploads/2025/02/club-4-Family-Day-15FEB2025.jpg
END:VEVENT
BEGIN:VEVENT
DTSTART;TZID=America/Halifax:20250215T120000
DTEND;TZID=America/Halifax:20250215T170000
DTSTAMP:20260425T003553
CREATED:20250211T122634Z
LAST-MODIFIED:20250417T132610Z
UID:7309-1739620800-1739638800@quadnbr2.ca
SUMMARY:Club 1: Poker Run for Maple Festival
DESCRIPTION:Club Sentier d’Amitie Saint Quentin will be hosting a ride on Saturday\, February 15 with registration from 12 pm to 2 pm.  The ride will leave from the clubhouse and will be followed by a poutine dinner at the clubhouse starting at 5 pm.  Come with us for “taffy on snow” as part of the Maple Festival and draws for over $850 in prizes. There will also be a bonfire\, music and fireworks.
URL:https://quadnbr2.ca/event/club-1-poker-run-2/
LOCATION:Sentier d’Amitie Saint-Quentin\, 252 Rousseau Road. PO Box 1411\, Saint Quentin\, new\, E8A 1A2\, Canada
CATEGORIES:Rides
ATTACH;FMTTYPE=image/png:https://quadnbr2.ca/wp-content/uploads/2025/01/Club-1.png
ORGANIZER;CN="Club Sentier dAmitie Saint-Quentin":MAILTO:infoClub1@quadnbr2.ca
END:VEVENT
BEGIN:VEVENT
DTSTART;TZID=America/Halifax:20250208T130000
DTEND;TZID=America/Halifax:20250208T180000
DTSTAMP:20260425T003553
CREATED:20250215T083312Z
LAST-MODIFIED:20250215T083312Z
UID:7395-1739019600-1739037600@quadnbr2.ca
SUMMARY:Club 2: Poker Run - 8 FEB 2025
DESCRIPTION:Club VTT Kedgwick (Club 2) will be hosting a Poker run on Saturday\, February 8\, 2025 from 1 pm to 6 pm leaving from the Club at 572 Petit-Ouest Road in Kedgwick. Cost is $10 CAD and spaghetti supper will follow at 8 pm.
URL:https://quadnbr2.ca/event/club-2-poker-run-8-feb-2025/
LOCATION:Knights of Columbus Hall\, 488 Vanier Street\, Campbellton\, NB\, E3N 1V7\, Canada
CATEGORIES:Rides
ATTACH;FMTTYPE=image/jpeg:https://quadnbr2.ca/wp-content/uploads/2025/01/Club-2.jpg
ORGANIZER;CN="Club des Tout terrain de Kedgwick Inc.":MAILTO:infoclub2@quadnbr2.ca
END:VEVENT
BEGIN:VEVENT
DTSTART;TZID=America/Halifax:20250201T113000
DTEND;TZID=America/Halifax:20250201T133000
DTSTAMP:20260425T003553
CREATED:20250206T124316Z
LAST-MODIFIED:20250417T132439Z
UID:7280-1738409400-1738416600@quadnbr2.ca
SUMMARY:Club 1: Poker Run
DESCRIPTION:The Club is hosting a POKER RUN on Saturday\, February 1\, 2025. The run will be from 11:30am to 1:30pm with a dinner to follow at 5:30pm at the clubhouse. The run\, including dinner will cost $10 CAD.
URL:https://quadnbr2.ca/event/club-1-poker-run/
LOCATION:Sentier d’Amitie Saint-Quentin\, 252 Rousseau Road. PO Box 1411\, Saint Quentin\, new\, E8A 1A2\, Canada
CATEGORIES:Rides
ATTACH;FMTTYPE=image/jpeg:https://quadnbr2.ca/wp-content/uploads/2025/02/club-1-Poker-Run-1FEB2025.jpg
ORGANIZER;CN="Club Sentier dAmitie Saint-Quentin":MAILTO:infoClub1@quadnbr2.ca
END:VEVENT
BEGIN:VEVENT
DTSTART;TZID=America/Halifax:20250125T130000
DTEND;TZID=America/Halifax:20250125T180000
DTSTAMP:20260425T003553
CREATED:20250127T121602Z
LAST-MODIFIED:20250206T124707Z
UID:7229-1737810000-1737828000@quadnbr2.ca
SUMMARY:Club 2: Poker Run in the Kedgwick Area
DESCRIPTION:Club VTT Kedgwick (Club 2) will be hosting a Poker run on Saturday\, January 25\, 2025 from 1 pm to 6 pm leaving from the Club at 572 Petit-Ouest Road in Kedgwick. Cost is $10 CAD and spaghetti supper will follow at 8 pm.
URL:https://quadnbr2.ca/event/poker-run-in-the-kedgwick-area/
LOCATION:Knights of Columbus Hall\, 488 Vanier Street\, Campbellton\, NB\, E3N 1V7\, Canada
CATEGORIES:Rides
ATTACH;FMTTYPE=image/jpeg:https://quadnbr2.ca/wp-content/uploads/2025/01/Club-2-Poker-Run-2025-0125.jpg
ORGANIZER;CN="Club des Tout terrain de Kedgwick Inc.":MAILTO:infoclub2@quadnbr2.ca
END:VEVENT
END:VCALENDAR