BEGIN:VCALENDAR
VERSION:2.0
PRODID:-//Quad NB Region 2 - ECPv6.15.20//NONSGML v1.0//EN
CALSCALE:GREGORIAN
METHOD:PUBLISH
X-WR-CALNAME:Quad NB Region 2
X-ORIGINAL-URL:https://quadnbr2.ca/fr
X-WR-CALDESC:Événements pour Quad NB Region 2
REFRESH-INTERVAL;VALUE=DURATION:PT1H
X-Robots-Tag:noindex
X-PUBLISHED-TTL:PT1H
BEGIN:VTIMEZONE
TZID:America/Halifax
BEGIN:DAYLIGHT
TZOFFSETFROM:-0400
TZOFFSETTO:-0300
TZNAME:ADT
DTSTART:20250309T060000
END:DAYLIGHT
BEGIN:STANDARD
TZOFFSETFROM:-0300
TZOFFSETTO:-0400
TZNAME:AST
DTSTART:20251102T050000
END:STANDARD
BEGIN:DAYLIGHT
TZOFFSETFROM:-0400
TZOFFSETTO:-0300
TZNAME:ADT
DTSTART:20260308T060000
END:DAYLIGHT
BEGIN:STANDARD
TZOFFSETFROM:-0300
TZOFFSETTO:-0400
TZNAME:AST
DTSTART:20261101T050000
END:STANDARD
BEGIN:DAYLIGHT
TZOFFSETFROM:-0400
TZOFFSETTO:-0300
TZNAME:ADT
DTSTART:20270314T060000
END:DAYLIGHT
BEGIN:STANDARD
TZOFFSETFROM:-0300
TZOFFSETTO:-0400
TZNAME:AST
DTSTART:20271107T050000
END:STANDARD
END:VTIMEZONE
BEGIN:VEVENT
DTSTART;VALUE=DATE:20260425
DTEND;VALUE=DATE:20260426
DTSTAMP:20260424T125630
CREATED:20260412T114828Z
LAST-MODIFIED:20260412T115826Z
UID:10415-1777075200-1777161599@quadnbr2.ca
SUMMARY:Club 2: Ride des Sucrerie
DESCRIPTION:Club VTT Kedgwick (Club 2) will be hosting a Sugar Ride on Saturday\, April 25\, 2025 leaving from the Club at 572 Petit-Ouest Road in Kedgwick. Registration is at 11 am with ride to follow. Prize draw at 7 pm.  Music/dance to follow.
URL:https://quadnbr2.ca/fr/event/club-2-ride-des-sucrerie-2/
LOCATION:Club VTT Kedgwick\, 572 chemin petit-ouest\, Kedgwick\, NB\, E8B1T8\, Canada
CATEGORIES:Rides
ATTACH;FMTTYPE=image/jpeg:https://quadnbr2.ca/wp-content/uploads/2026/04/Club-2-Ride-des-Sucrerie-25APR2026.jpg
ORGANIZER;CN="Club des Tout terrain de Kedgwick Inc.":MAILTO:infoclub2@quadnbr2.ca
END:VEVENT
BEGIN:VEVENT
DTSTART;VALUE=DATE:20260425
DTEND;VALUE=DATE:20260426
DTSTAMP:20260424T125630
CREATED:20260422T121810Z
LAST-MODIFIED:20260422T121810Z
UID:10424-1777075200-1777161599@quadnbr2.ca
SUMMARY:Club 2: Ticket Draw Fund Raiser
DESCRIPTION:Club VTT Kedgwick (Club 2) is having a fund raiser! \nTickets are $20 each. Draw is on April 25\, 2026\, and no need to be present to win. There are 12 prizes to be won including the Grand Prize – 2026 Polaris Sportsman EPS from Brunswick Powersports valued at $14\,000.  \nSee FaceBook Page for more information. \nContact Louiselle Savoie at +1-506-284-0444 to purchase a ticket \n 
URL:https://quadnbr2.ca/fr/event/club-2-ticket-draw-fund-raiser/
LOCATION:Club VTT Kedgwick\, 572 chemin petit-ouest\, Kedgwick\, NB\, E8B1T8\, Canada
CATEGORIES:Call to Action
ATTACH;FMTTYPE=image/jpeg:https://quadnbr2.ca/wp-content/uploads/2026/04/Club-2-Ticket-Draw.jpg
ORGANIZER;CN="Club des Tout terrain de Kedgwick Inc.":MAILTO:infoclub2@quadnbr2.ca
END:VEVENT
BEGIN:VEVENT
DTSTART;TZID=America/Halifax:20260428T190000
DTEND;TZID=America/Halifax:20260428T203000
DTSTAMP:20260424T125630
CREATED:20260322T124131Z
LAST-MODIFIED:20260322T124131Z
UID:10412-1777402800-1777408200@quadnbr2.ca
SUMMARY:Club 3:  Members Meeting 28 April 2026
DESCRIPTION:VTT / ATV Restigouche (Club 3) will be hosting a Members Meeting on Tuesday April 28\, 2026\, at 7 pm. \nMeeting will be held at Centre de la Vallée\, Val-d’Amour\, NB E3N 5E1. \nJacques Quellette\, Development Coordinator for QuadNB will be at the meeting to discuss the progress towards street access in Campbellton and long-term plans. \nIf you want to become a voting member of the club but do not have a trail pass\, you can purchase a Supporting Membership at the meeting for $20.  This membership is valid for the year and will give you most of the rights and privileges of a regular member.  Also\, all members must bring their pink registration papers or membership cards to the meeting. \n 
URL:https://quadnbr2.ca/fr/event/club-3-members-meeting-28-april-2026/
LOCATION:Centre de la Vallée\, 1 rue de l'École\, Val-d'Amour\, NB\, E3N 5E1\, Canada
CATEGORIES:Meetings
ATTACH;FMTTYPE=image/jpeg:https://quadnbr2.ca/wp-content/uploads/2025/09/Club-3-Meeting-09OCT2025-e1759229850924.jpg
ORGANIZER;CN="VTT / ATV Club Restigouche":MAILTO:contact@quadnbr2.ca
END:VEVENT
BEGIN:VEVENT
DTSTART;VALUE=DATE:20260731
DTEND;VALUE=DATE:20260803
DTSTAMP:20260424T125630
CREATED:20251213T033508Z
LAST-MODIFIED:20251213T033508Z
UID:10208-1785456000-1785715199@quadnbr2.ca
SUMMARY:Edmundston Region hosts Provincial Jamboree 2026
DESCRIPTION:Although technically outside region 2\, we want to let everyone know about the 2026 QuadNB Provincial Jamboree will be held by the 4 clubs that form region 1 in the Edmundston region of northwest New Brunswick. \nClub 53 – Club VTT Mad-Vic ATV Club\nClub 54 – Club VTT Voyageurs de Sentiers du Madawaska\nClub 55 – Club VTT Nord-Quest 55\nClub 56 – Club VTT Haut Madawaska #56 \nVisit our Facebook Page for more information.
URL:https://quadnbr2.ca/fr/event/edmundston-region-hosts-provincial-jamboree-2026/
LOCATION:NB
ATTACH;FMTTYPE=image/jpeg:https://quadnbr2.ca/wp-content/uploads/2025/12/Provincial-Jamboree-2026.jpg
END:VEVENT
END:VCALENDAR